BEGIN:VCALENDAR
VERSION:2.0
PRODID:-//ChamberMaster//Event Calendar 2.0//EN
METHOD:PUBLISH
X-PUBLISHED-TTL:P3D
REFRESH-INTERVAL:P3D
CALSCALE:GREGORIAN
BEGIN:VEVENT
DTSTART:20151021T223000Z
DTEND:20151021T233000Z
X-MICROSOFT-CDO-ALLDAYEVENT:FALSE
SUMMARY:Yoga @ Anytime Fitness
DESCRIPTION:Yoga @ Anytime Fitness
X-ALT-DESC;FMTTYPE=text/html:<strong>Yoga @ Anytime Fitness </strong>
LOCATION:120 1/2 West Cavour City Center Mall Fergus Falls\,
UID:e.314.24661
SEQUENCE:3
DTSTAMP:20260426T030646Z
URL:https://business.fergusfalls.com/events/details/yoga-anytime-fitness-10-21-2015-24661
END:VEVENT

END:VCALENDAR
