BEGIN:VCALENDAR
VERSION:2.0
PRODID:-//ChamberMaster//Event Calendar 2.0//EN
METHOD:PUBLISH
X-PUBLISHED-TTL:P3D
REFRESH-INTERVAL:P3D
CALSCALE:GREGORIAN
BEGIN:VEVENT
DTSTART:20151026T223000Z
DTEND:20151026T233000Z
X-MICROSOFT-CDO-ALLDAYEVENT:FALSE
SUMMARY:Yoga @ Anytime Fitness
DESCRIPTION:Evening Yoga @ Anytime Fitness @ 5:30 pm\n\nOct 21st & 26th
X-ALT-DESC;FMTTYPE=text/html:<strong>Evening Yoga @ Anytime Fitness @ 5:30 pm<br />\nOct 21st &amp\; 26th </strong>
LOCATION:Anytime Fitness 120 1/2 West Cavour City Center Mall Fergus Falls\, MN 56537 (218) 998-4424
UID:e.314.24663
SEQUENCE:3
DTSTAMP:20260426T030612Z
URL:https://business.fergusfalls.com/events/details/yoga-anytime-fitness-10-26-2015-24663
END:VEVENT

END:VCALENDAR
