BEGIN:VCALENDAR
VERSION:2.0
PRODID:-//ChamberMaster//Event Calendar 2.0//EN
METHOD:PUBLISH
X-PUBLISHED-TTL:P3D
REFRESH-INTERVAL:P3D
CALSCALE:GREGORIAN
BEGIN:VEVENT
DTSTART:20181028T170000Z
DTEND:20181028T180000Z
X-MICROSOFT-CDO-ALLDAYEVENT:FALSE
SUMMARY:Young Adults Lunch Gathering
DESCRIPTION:Location: Fiesta Brava\n\n\n\nYoung Adults are invited to a gathering of friends to start a conversation on how a ministry for\, and with\, young adults in their 20s and 30s would look like at Bethel.\n\n\n\nWe have the back room reserved at Fiesta Brava.\n\n\n\n(Lunch will be a FREE-WILL DONATION)\n\n\n\nFor more info\, add any questions or comments in the discussion section. Or\, you can Message Pastor Rich or Will Rader.
X-ALT-DESC;FMTTYPE=text/html:<div class="_63ew" data-testid="event-permalink-details"><span>Location: Fiesta Brava<br />\n<br />\nYoung Adults are invited to a gathering of friends to start a conversation on how a ministry for\, and with\, young adults in their 20s and 30s would look like at Bethel.<br />\n<br />\nWe have the back room reserved at Fiesta Brava.<br />\n<br />\n(Lunch will be a FREE-WILL DONATION)<br />\n<br />\nFor more info\, add any questions or comments in the discussion section. Or\, you can Message Pastor Rich or Will Rader.</span></div>\n
LOCATION:Fiesta Brava 218 W Cavour Ave Fergus Falls
UID:e.314.50478
SEQUENCE:3
DTSTAMP:20260423T163312Z
URL:https://business.fergusfalls.com/events/details/young-adults-lunch-gathering-50478
END:VEVENT

END:VCALENDAR
