BEGIN:VCALENDAR
VERSION:2.0
PRODID:-//ChamberMaster//Event Calendar 2.0//EN
METHOD:PUBLISH
X-PUBLISHED-TTL:P3D
REFRESH-INTERVAL:P3D
CALSCALE:GREGORIAN
BEGIN:VEVENT
DTSTART:20161123T140000Z
DTEND:20161124T020000Z
X-MICROSOFT-CDO-ALLDAYEVENT:FALSE
SUMMARY:Your Invited to the Market
DESCRIPTION:Your Invited!!\n\nThe Market has New Merchandise arriving daily!\n\n\n\nStop in for a cup of Hot Apple Cider while you get your Christmas Shopping done!\n\n**We will wrap your gifts for FREE!**\n\nExtended Hours from Nov. 23rd thru Dec. 22nd.......\n\nMonday - Friday 8:00am - 8:00pm\n\nSaturday & Sunday 8:00am - 6:00pm\n\n\n\nJoin us for the Following Events.....\n\nWho needs Black Friday when you can have White Wednesday?\n\nWednesday \, November 23rd.  White Wednesday!\n\nFriday\, November 25th. Plaid Friday (wear plaid to the Market and receive a coupon).\n\nWednesday\, December 7th\, Ladies Day\n\nSaturday\, December 10th Santa Train/ Downtown Holiday Event!\n\nSaturday December 17th Holiday Open House\n\nWatch for details on all Events!\n\nDrawings & Samples Daily!
X-ALT-DESC;FMTTYPE=text/html:<p style="text-align: center\;"><span style="font-size: 12px\;"><span style="font-family: tahoma\;">Your Invited!!<br />\nThe Market has New Merchandise arriving daily!<br />\n<br />\nStop in for a cup of Hot Apple Cider while you get your Christmas Shopping done!<br />\n**We will wrap your gifts for FREE!**<br />\nExtended Hours from Nov. 23rd thru Dec. 22nd.......<br />\nMonday - Friday 8:00am - 8:00pm<br />\nSaturday &amp\; Sunday 8:00am - 6:00pm<br />\n<br />\nJoin us for the Following Events.....<br />\nWho needs Black Friday when you can have White Wednesday?<br />\nWednesday \, November 23rd.&nbsp\; White Wednesday!<br />\nFriday\, November 25th. Plaid Friday (wear plaid to the Market and receive a coupon).<br />\nWednesday\, December 7th\, Ladies&nbsp\;Day<br />\nSaturday\, December 10th Santa Train/&nbsp\;Downtown Holiday Event!<br />\nSaturday December 17th Holiday Open House<br />\nWatch for details on all Events!<br />\nDrawings &amp\; Samples Daily!<br />\n<br />\n&nbsp\;</span></span><br />\n&nbsp\;</p>\n
LOCATION:The Market 120 S. Union Ave. Fergus Falls\, MN 56537 (218) 998-3663
UID:e.314.36974
SEQUENCE:3
DTSTAMP:20260425T040808Z
URL:https://business.fergusfalls.com/events/details/your-invited-to-the-market-36974
END:VEVENT

END:VCALENDAR
