BEGIN:VCALENDAR
VERSION:2.0
PRODID:-//ChamberMaster//Event Calendar 2.0//EN
METHOD:PUBLISH
X-PUBLISHED-TTL:P3D
REFRESH-INTERVAL:P3D
CALSCALE:GREGORIAN
BEGIN:VEVENT
DTSTART:20180927T230000Z
DTEND:20180928T010000Z
X-MICROSOFT-CDO-ALLDAYEVENT:FALSE
SUMMARY:Your Voice Makes a Difference
DESCRIPTION:Serve on a State Board or Commission: Connect\, engage and participate in the policy decisions that impact you by serving on a state board\, commission or taskforce. Attend an information session to meet others who have served\, hear about current opportunities and learn how to apply. Light refreshments will be provided. This is brought to you by the MN Department of Human Rights and the Fergus Falls Human Rights Commission.
X-ALT-DESC;FMTTYPE=text/html:Serve on a State Board or Commission: Connect\, engage and participate in the policy decisions that impact you by serving on a state board\, commission or taskforce. Attend an information session to meet others who have served\, hear about current opportunities and learn how to apply. Light refreshments will be provided. This is brought to you by the MN Department of Human Rights and the Fergus Falls Human Rights Commission.
LOCATION:M State Fergus Falls
UID:e.314.50369
SEQUENCE:3
DTSTAMP:20260423T175804Z
URL:https://business.fergusfalls.com/events/details/your-voice-makes-a-difference-50369
END:VEVENT

END:VCALENDAR
