BEGIN:VCALENDAR
VERSION:2.0
PRODID:-//ChamberMaster//Event Calendar 2.0//EN
METHOD:PUBLISH
X-PUBLISHED-TTL:P3D
REFRESH-INTERVAL:P3D
CALSCALE:GREGORIAN
BEGIN:VEVENT
DTSTART:20161214T170000Z
DTEND:20161215T010000Z
X-MICROSOFT-CDO-ALLDAYEVENT:FALSE
SUMMARY:Youth Hockey Dining out at Taco Johns Fundraiser
DESCRIPTION:Youth Hockey Dining out fundraising at Taco Johns. Taco Johns will donate 25% of the sales from 11am to 7pm to Fergus Falls Youth Hockey! Come on out and show your support for both organization and business.
X-ALT-DESC;FMTTYPE=text/html:Youth Hockey Dining out fundraising at Taco Johns. Taco Johns will donate 25% of the sales from 11am to 7pm to Fergus Falls Youth Hockey! Come on out and show your support for both organization and business.
LOCATION:Taco Johns
UID:e.314.37209
SEQUENCE:3
DTSTAMP:20260425T040332Z
URL:https://business.fergusfalls.com/events/details/youth-hockey-dining-out-at-taco-johns-fundraiser-37209
END:VEVENT

END:VCALENDAR
