BEGIN:VCALENDAR
VERSION:2.0
PRODID:-//ChamberMaster//Event Calendar 2.0//EN
METHOD:PUBLISH
X-PUBLISHED-TTL:P3D
REFRESH-INTERVAL:P3D
CALSCALE:GREGORIAN
BEGIN:VEVENT
DTSTART:20200507T170000Z
DTEND:20200507T174500Z
X-MICROSOFT-CDO-ALLDAYEVENT:FALSE
SUMMARY:YPN Committee Meeting
DESCRIPTION:YPN committee meeting to reconnect.\n\nchamber@fergusfalls.com is inviting you to a scheduled Zoom meeting.
X-ALT-DESC;FMTTYPE=text/html:YPN committee meeting to reconnect.<br />\nchamber@fergusfalls.com is inviting you to a scheduled Zoom meeting.<br />\n&nbsp\;
LOCATION:Zoom meeting
UID:e.314.57419
SEQUENCE:3
DTSTAMP:20260422T095422Z
URL:https://business.fergusfalls.com/events/details/ypn-committee-meeting-57419
END:VEVENT

END:VCALENDAR
