BEGIN:VCALENDAR
VERSION:2.0
PRODID:-//ChamberMaster//Event Calendar 2.0//EN
METHOD:PUBLISH
X-PUBLISHED-TTL:P3D
REFRESH-INTERVAL:P3D
CALSCALE:GREGORIAN
BEGIN:VEVENT
DTSTART:20190220T180000Z
DTEND:20190220T190000Z
X-MICROSOFT-CDO-ALLDAYEVENT:FALSE
SUMMARY:YPN Knowledge@Noon
DESCRIPTION:Young Professionals Networking presents Knowledge@Noon\n\nTopic:  Destressing & Organizing in the New Year\n\nGuest Speaker: Tasha Rohlfs\n\n\n\nStress is an insidious health risk mostly caused by trying to control events and people that we can't.  It will also impact your family\, your organization\, and the people you are working to help.  During this luncheon\, learn helpful tidbits and tricks that are essential to maintaining stability in stressful circumstances.\n\n\n\nThis event is FREE for members (registration required) and includes a full meal. For members with dietary requirements\, please contact the Chamber directly at (218) 736-6951.\n\n\n\n- About Knowledge@Noon -\n\nNow is the time to invest in yourself and your career. At bi-monthly professional development events\, you will he...ar from prominent business leaders\, public officials and industry experts as they explore the latest regional issues and share tips/career advice. Gain valuable networking and leadership skills through YPN's skill-building workshops that cover topics such as strategic networking and the importance of having a mentor.\n\n\n\n- About YPN -\n\nToday's young professionals are tomorrow's leaders! As the premier organization of its kind in the region\, the Fergus Falls YPN will help you improve your career\, develop your leadership abilities\, build your professional network\, and give back to the Fergus Falls community.\n\n\n\n- To Register -\n\nCall the Chamber of Commerce or use email link sent prior to event.\n\n*If you are a paid YPN member\, enter promo code "FFYPN" and the $30 non-member fee will be reversed.*
X-ALT-DESC;FMTTYPE=text/html:<strong><span style="font-size: 20px\;">Young Professionals Networking&nbsp\;presents Knowledge@Noon</span></strong><br />\n<span style="font-size: 14px\;"><strong>Topic:</strong>&nbsp\; Destressing &amp\; Organizing in the New Year<br />\n<strong>Guest Speaker: </strong>Tasha Rohlfs<br />\n<br />\n<strong>Stress</strong> is an insidious health risk mostly caused by trying to control events and people that we can&#39\;t.&nbsp\; It will also impact your<strong> family</strong>\, your <strong>organization</strong>\, and the people you are working to help.&nbsp\; During this luncheon\, learn helpful tidbits and tricks that&nbsp\;are essential to maintaining stability in stressful circumstances.<br />\n<br />\nThis event is FREE for members (registration required) and includes a full meal. For members with dietary requirements\, please contact the Chamber directly at (218) 736-6951.<br />\n<br />\n<strong>- About Knowledge@Noon -</strong><br />\nNow is the time to invest in yourself and your career. At bi-monthly professional development events\, you will he<span class="text_exposed_hide">...</span><span class="text_exposed_show">ar from prominent business leaders\, public officials and industry experts as they explore the latest regional issues and share tips/career advice. Gain valuable networking and leadership skills through YPN&rsquo\;s skill-building workshops that cover topics such as strategic networking and the importance of having a mentor.<br />\n<br />\n<strong>- About YPN -</strong><br />\nToday&rsquo\;s young professionals are tomorrow&rsquo\;s leaders! As the premier organization of its kind in the region\, the Fergus Falls YPN will help you improve your career\, develop your leadership abilities\, build your professional network\, and give back to the Fergus Falls community.<br />\n<br />\n<strong>- To Register -</strong><br />\nCall the Chamber of Commerce or use email link sent prior to event.<br />\n*If you are a paid YPN member\, enter promo code &quot\;<strong>FFYPN</strong>&quot\; and the $30 non-member fee will be reversed.*</span></span>
LOCATION:Cooper's Office Supply - Upstairs 102 E. Lincoln Ave Fergus Falls
UID:e.314.52480
SEQUENCE:3
DTSTAMP:20260423T092059Z
URL:https://business.fergusfalls.com/events/details/ypn-knowledge-noon-02-20-2019-52480
END:VEVENT

END:VCALENDAR
