BEGIN:VCALENDAR
VERSION:2.0
PRODID:-//ChamberMaster//Event Calendar 2.0//EN
METHOD:PUBLISH
X-PUBLISHED-TTL:P3D
REFRESH-INTERVAL:P3D
CALSCALE:GREGORIAN
BEGIN:VEVENT
DTSTART:20181219T180000Z
DTEND:20181219T190000Z
X-MICROSOFT-CDO-ALLDAYEVENT:FALSE
SUMMARY:YPN Knowledge @ Noon
DESCRIPTION:Knowledge @ Noon\n\nCustomer Service Training: 1A\n\n\n\nGuest Speaker : Jean Bowman\, Visit Fergus Falls \n\n\n\nA Crash Course in Customer Service\n\n\n\nIt takes more than 45 minutes to become excellent at customer service. But Jean Bowman will present a portion of "At Your Service" a U of M-authored curriculum about presenting amazing customer service. She will dive right in with one of the four A's   Attention. It will be fast paced\, interactive and fun. It will leave you with an appetite for more!
X-ALT-DESC;FMTTYPE=text/html:<span style="font-size: 14px\;"><span style="color: rgb(0\, 128\, 0)\;"><em><strong><span style="font-size: 20px\;"><span style="font-family: tahoma\;">Knowledge @ Noon</span></span></strong></em></span><br />\nCustomer Service Training: 1A<br />\n<br />\nGuest Speaker : Jean Bowman\, Visit Fergus Falls&nbsp\;</span><br />\n<br />\n<span style="font-size:18px\;"><strong>A Crash Course in Customer Service</strong></span><br />\n<br />\nIt takes more than 45 minutes to become excellent at customer service. But Jean Bowman will present a portion of &ldquo\;At Your Service&rdquo\; a U of M-authored curriculum about presenting amazing customer service. She will dive right in with one of the four A&rsquo\;s &ndash\; Attention. It will be fast paced\, interactive and fun. It will leave you with an appetite for more!<br />\n<br />\n<br />\n&nbsp\;
LOCATION:Lakes Country Service Cooperative 1001 East Mt Faith Fergus Falls\, MN 56537 Lunch catered by the American Legion
UID:e.314.51717
SEQUENCE:3
DTSTAMP:20260423T121932Z
URL:https://business.fergusfalls.com/events/details/ypn-knowledge-noon-51717
END:VEVENT

END:VCALENDAR
