BEGIN:VCALENDAR
VERSION:2.0
PRODID:-//ChamberMaster//Event Calendar 2.0//EN
METHOD:PUBLISH
X-PUBLISHED-TTL:P3D
REFRESH-INTERVAL:P3D
CALSCALE:GREGORIAN
BEGIN:VEVENT
DTSTART:20171018T170000Z
DTEND:20171018T180000Z
X-MICROSOFT-CDO-ALLDAYEVENT:FALSE
SUMMARY:YPN Knowledge@Noon at West Central Initiative - "Marketing Cultural Events"
DESCRIPTION:YPN - Fergus Falls presents Knowledge@Noon. Join us for our October Knowledge@Noon event at West Central Initiative and make the most out of your YPN Membership! \n\nExecutive Director of the Otter Tail County Historical Society and colorful storyteller\, Chris Schuelke will present "Marketing Cultural Events".  This interactive hour will be filled with facts of Otter Tail County's 150 year history\, the uniqueness of Fergus Falls and area businesses. \n\n\n\n\n\nThis event is FREE for YPN members and includes lunch: catered food from Service Food (vegetarian and gluten free options available). Please note\, responding to this event will not register you for the event. To register\, please email the Chamber at chamber@fergusfalls.com.\n\nNon-YPN Members may attend for $30.\n\n\n\n- About Knowledge@Noon -\n\nNow is the time to invest in yourself and your career. At bi-monthly professional development events\, you will hear from prominent business leaders\, public officials and industry experts as they explore the latest regional issues and share tips/career advice. Gain valuable networking and leadership skills through YPN's skill-building workshops that cover topics such as strategic networking and the importance of having a mentor.\n\n\n\n- About YPN -\n\nToday's young professionals are tomorrow's leaders! As the premier organization of its kind in the region\, the Fergus Falls YPN will help you improve your career\, develop your leadership abilities\, build your professional network\, and give back to the Fergus Falls community.\n\n\n\nClick Here for additional YPN information & application form
X-ALT-DESC;FMTTYPE=text/html:<span style="color:#000000\;">YPN - Fergus Falls presents Knowledge@Noon. Join us for our October Knowledge@Noon event at West Central Initiative and make the most out of your YPN Membership!&nbsp\;<br />\nExecutive Director of the Otter Tail County Historical Society and colorful storyteller\, Chris Schuelke&nbsp\;will present&nbsp\;&ldquo\;Marketing Cultural Events&rdquo\;.&nbsp\; This interactive hour will be filled with facts of Otter Tail County&rsquo\;s 150 year history\, the uniqueness of Fergus Falls and area businesses.&nbsp\;</span><br />\n<br />\n<br />\n<span style="font-size:12px\;"><span style="font-family:tahoma\;"><span style="color:#000000\;">This event is FREE for YPN members and includes lunch: catered food from Service Food (vegetarian and gluten free options available). Please note\, responding to this event will not register you for the event. To register\, please email the Chamber at </span><a href="mailto:chamber@fergusfalls.com"><span style="color:#000000\;">chamber@fergusfalls.com</span></a><span style="color:#000000\;">.<br />\nNon-YPN Members may attend for $30.<br />\n<br />\n- About Knowledge@Noon -<br />\nNow is the time to invest in yourself and your career. At bi-monthly professional development events\, you will hear from prominent business leaders\, public officials and industry experts as they explore the latest regional issues and share tips/career advice. Gain valuable networking and leadership skills through YPN&rsquo\;s skill-building workshops that cover topics such as strategic networking and the importance of having a mentor.<br />\n<br />\n- About YPN -<br />\nToday&rsquo\;s young professionals are tomorrow&rsquo\;s leaders! As the premier organization of its kind in the region\, the Fergus Falls YPN will help you improve your career\, develop your leadership abilities\, build your professional network\, and give back to the Fergus Falls community.</span></span></span><br />\n<br />\n<strong><a href="https://chambermaster.blob.core.windows.net/userfiles/UserFiles/chambers/314/File/YPNMembershipInformationApplication.pdf">Click Here for additional YPN information &amp\; application form</a></strong>
LOCATION:West Central Initiative 1000 Western Avenue Fergus Falls\, MN 56537
UID:e.314.40197
SEQUENCE:3
DTSTAMP:20260424T093240Z
URL:https://business.fergusfalls.com/events/details/ypn-knowledge-noon-at-west-central-initiative-marketing-cultural-events-40197
END:VEVENT

END:VCALENDAR
