BEGIN:VCALENDAR
VERSION:2.0
PRODID:-//ChamberMaster//Event Calendar 2.0//EN
METHOD:PUBLISH
X-PUBLISHED-TTL:P3D
REFRESH-INTERVAL:P3D
CALSCALE:GREGORIAN
BEGIN:VEVENT
DTSTART:20170215T180000Z
DTEND:20170215T190000Z
X-MICROSOFT-CDO-ALLDAYEVENT:FALSE
SUMMARY:YPN Knowledge@Noon: How to Network!
DESCRIPTION:YPN - Fergus Falls presents Knowledge@Noon: How to Network! Join us for our February Knowledge@Noon event at Bigwood Event Center to polish your networking skills and make the most out of your YPN Membership! Tasha Rohlfs\, Public Speaking Consultant with Dale Carnegie will present.\n\n\n\nThis event is FREE for YPN members and includes lunch: Chicken Caesar Wrap\, Chips and Iced Tea. Please note\, responding to this event will not register you for the event. To register\, please email the Chamber at chamber@fergusfalls.com.\n\nNon-YPN Members may attend for $30.\n\n\n\n- About Knowledge@Noon -\n\nNow is the time to invest in yourself and your career. At bi-monthly professional development events\, you will hear from prominent business leaders\, public officials and industry experts as they explore the latest regional issues and share tips/career advice. Gain valuable networking and leadership skills through YPN's skill-building workshops that cover topics such as strategic networking and the importance of having a mentor.\n\n\n\n- About YPN -\n\nToday's young professionals are tomorrow's leaders! As the premier organization of its kind in the region\, the Fergus Falls YPN will help you improve your career\, develop your leadership abilities\, build your professional network\, and give back to the Fergus Falls community.\n\n\n\nClick Here for additional YPN information & application form
X-ALT-DESC;FMTTYPE=text/html:<span style="font-size:12px\;"><span style="font-family:tahoma\;"><span style="color:#000000\;">YPN - Fergus Falls presents Knowledge@Noon: How to Network! Join us for our February Knowledge@Noon event at Bigwood Event Center to polish your networking skills and make the most out of your YPN Membership! Tasha Rohlfs\, Public Speaking Consultant with Dale Carnegie will present.<br />\n<br />\nThis event is FREE for YPN members and includes lunch: Chicken Caesar Wrap\, Chips and Iced Tea. Please note\, responding to this event will not register you for the event. To register\, please email the Chamber at </span><a href="mailto:chamber@fergusfalls.com"><span style="color:#000000\;">chamber@fergusfalls.com</span></a><span style="color:#000000\;">.<br />\nNon-YPN Members may attend for $30.<br />\n<br />\n- About Knowledge@Noon -<br />\nNow is the time to invest in yourself and your career. At bi-monthly professional development events\, you will hear from prominent business leaders\, public officials and industry experts as they explore the latest regional issues and share tips/career advice. Gain valuable networking and leadership skills through YPN&rsquo\;s skill-building workshops that cover topics such as strategic networking and the importance of having a mentor.<br />\n<br />\n- About YPN -<br />\nToday&rsquo\;s young professionals are tomorrow&rsquo\;s leaders! As the premier organization of its kind in the region\, the Fergus Falls YPN will help you improve your career\, develop your leadership abilities\, build your professional network\, and give back to the Fergus Falls community.</span></span></span><br />\n<br />\n<strong><a href="https://chambermaster.blob.core.windows.net/userfiles/UserFiles/chambers/314/File/YPNMembershipInformationApplication.pdf">Click Here for additional YPN information &amp\; application form</a></strong>
LOCATION:Bigwood Event Center 925 Western Ave. Fergus Falls\, MN
UID:e.314.38208
SEQUENCE:3
DTSTAMP:20260424T224650Z
URL:https://business.fergusfalls.com/events/details/ypn-knowledge-noon-how-to-network-38208
END:VEVENT

END:VCALENDAR
