BEGIN:VCALENDAR
VERSION:2.0
PRODID:-//ChamberMaster//Event Calendar 2.0//EN
METHOD:PUBLISH
X-PUBLISHED-TTL:P3D
REFRESH-INTERVAL:P3D
CALSCALE:GREGORIAN
BEGIN:VEVENT
DTSTART:20180418T170000Z
DTEND:20180418T180000Z
X-MICROSOFT-CDO-ALLDAYEVENT:FALSE
SUMMARY:YPN Knowledge@Noon - Special Panel Event
DESCRIPTION:Young Professionals Network - Fergus Falls presents Knowledge@Noon: Fergus Falls 101.\n\n\n\nThis is an exciting K@N with a panel of presenters answering questions from our members specific to Fergus Falls local government\, getting involved\, and the going-ons. Presenters include Jean Bowman (Visit Fergus Falls)\, Amy Baldwin (EIC)\, Lisa Workman (Chamber)\, and Andrew Bremseth (City of Fergus).\n\n\n\nThis event is FREE for members (registration required) and includes a full meal. For members with dietary requirements\, please contact the Chamber directly at (218) 736-6951.\n\n\n\n- About Knowledge@Noon -\n\nNow is the time to invest in yourself and your career. At bi-monthly professional development events\, you will he...ar from prominent business leaders\, public officials and industry experts as they explore the latest regional issues and share tips/career advice. Gain valuable networking and leadership skills through YPN's skill-building workshops that cover topics such as strategic networking and the importance of having a mentor.\n\n\n\n- About YPN -\n\nToday's young professionals are tomorrow's leaders! As the premier organization of its kind in the region\, the Fergus Falls YPN will help you improve your career\, develop your leadership abilities\, build your professional network\, and give back to the Fergus Falls community.\n\n\n\n- Cost -\n\nFREE for YPN Members\n\n$30 for Non-YPN Members\n\n*REGISTRATION REQUIRED*\n\n\n\n- To Register -\n\nCall the Chamber of Commerce or use email link sent prior to event.\n\n*If you are a paid YPN member\, enter promo code "FFYPN" and the $30 non-member fee will be reversed.*
X-ALT-DESC;FMTTYPE=text/html:<div class="text_exposed_root text_exposed" id="id_5a4e69afb484c6c38436637"><span class="_4n-j _3cht fsl" data-testid="event-permalink-details">Young Professionals Network - Fergus Falls presents Knowledge@Noon: Fergus Falls 101.<br />\n<br />\nThis is an exciting K@N with a panel of presenters answering questions from our members specific to Fergus Falls local government\, getting involved\, and the going-ons. Presenters include Jean Bowman (Visit Fergus Falls)\, Amy Baldwin (EIC)\, Lisa Workman (Chamber)\, and&nbsp\;Andrew Bremseth (City of Fergus).<br />\n<br />\nThis event is FREE for members (registration required) and includes a full meal. For members with dietary requirements\, please contact the Chamber directly at (218) 736-6951.<br />\n<br />\n- About Knowledge@Noon -<br />\nNow is the time to invest in yourself and your career. At bi-monthly professional development events\, you will he<span class="text_exposed_hide">...</span><span class="text_exposed_show">ar from prominent business leaders\, public officials and industry experts as they explore the latest regional issues and share tips/career advice. Gain valuable networking and leadership skills through YPN&rsquo\;s skill-building workshops that cover topics such as strategic networking and the importance of having a mentor.<br />\n<br />\n- About YPN -<br />\nToday&rsquo\;s young professionals are tomorrow&rsquo\;s leaders! As the premier organization of its kind in the region\, the Fergus Falls YPN will help you improve your career\, develop your leadership abilities\, build your professional network\, and give back to the Fergus Falls community.<br />\n<br />\n- Cost -<br />\nFREE for YPN Members<br />\n$30 for Non-YPN Members<br />\n*REGISTRATION REQUIRED*<br />\n<br />\n- To Register -<br />\nCall the Chamber of Commerce or use email link sent prior to event.<br />\n*If you are a paid YPN member\, enter promo code &quot\;<strong>FFYPN</strong>&quot\; and the $30 non-member fee will be reversed.*</span></span></div>\n
LOCATION:Cooper's Office Supply 102 E. Lincoln Ave. Fergus Falls\, MN
UID:e.314.43680
SEQUENCE:3
DTSTAMP:20260423T235121Z
URL:https://business.fergusfalls.com/events/details/ypn-knowledge-noon-special-panel-event-43680
END:VEVENT

END:VCALENDAR
