BEGIN:VCALENDAR
VERSION:2.0
PRODID:-//ChamberMaster//Event Calendar 2.0//EN
METHOD:PUBLISH
X-PUBLISHED-TTL:P3D
REFRESH-INTERVAL:P3D
CALSCALE:GREGORIAN
BEGIN:VEVENT
DTSTART:20180221T180000Z
DTEND:20180221T190000Z
X-MICROSOFT-CDO-ALLDAYEVENT:FALSE
SUMMARY:YPN Knowledge@Noon - The Art of Communicating
DESCRIPTION:Young Professionals Network - Fergus Falls presents Knowledge@Noon - The Art of Communicating.\n\n\n\nHeather Ostrowski\, a Dale Carnegie trained speaker\, will be coaching us on the Art of Communicating.\n\n\n\nTell 'em what they want to hear!\n\n\n\n  We will learn 4 different communication styles\n\n  Group activities to practice communication\n\n  Gain tools to help you communicate effectively\n\n\n\nThis event is FREE for members (registration required) and includes a full meal. For members with dietary requirements\, please contact the Chamber directly at (218) 736-6951
X-ALT-DESC;FMTTYPE=text/html:<div class="text_exposed_root" id="id_5a4e6864bb5280e18957487"><span class="_4n-j _3cht fsl" data-testid="event-permalink-details">Young Professionals Network - Fergus Falls presents Knowledge@Noon - The Art of Communicating.<br />\n<br />\nHeather Ostrowski\, a Dale Carnegie trained speaker\, will be coaching us on the Art of Communicating.<br />\n<br />\nTell &lsquo\;em what they want to hear!<br />\n<br />\n&bull\; We will learn 4 different communication styles<br />\n&bull\; Group activities to practice communication<br />\n&bull\; Gain tools to help you communicate effectively<br />\n<br />\nThis event is FREE for members (registration required) and includes a full meal. For members with dietary requirements\, please contact the Chamber directly at (218) 736-6951</span></div>\n
LOCATION:Cafe 116 116 S Union Ave Fergus Falls MN 56537
UID:e.314.43679
SEQUENCE:3
DTSTAMP:20260424T025358Z
URL:https://business.fergusfalls.com/events/details/ypn-knowledge-noon-the-art-of-communicating-43679
END:VEVENT

END:VCALENDAR
