BEGIN:VCALENDAR
VERSION:2.0
PRODID:-//ChamberMaster//Event Calendar 2.0//EN
METHOD:PUBLISH
X-PUBLISHED-TTL:P3D
REFRESH-INTERVAL:P3D
CALSCALE:GREGORIAN
BEGIN:VEVENT
DTSTART:20181025T160000Z
DTEND:20181025T180000Z
X-MICROSOFT-CDO-ALLDAYEVENT:FALSE
SUMMARY:YPN Knowledge @ Noon - Work Smart - Salary Negotaion Workshop
DESCRIPTION:The Fergus Falls Branch of American Association of University Women (AAUW) is hosting a WORK SMART seminar. This free seminar is designed to help you negotiate for a new job\, raise or promotion. \n\n\n\nThe seminar will give you confidence in your negotiation style as you learn  h How to identify and articulate your personal value  h How to develop an arsenal of persuasive responses and other negotiation strategies\, including how to get a raise or promotion  h How to conduct objective market research to benchmark a target salary and benefits\n\n \n\nThe session will be led by local AAUW member\, Jaime Price Anderson. Jaime is a PMP certified Project Manager who works with BW Integrated Systems (BWIS)\, formerly Thiele Technologies\, in Fergus Falls. She has worked as a consultant and project manager for 12 years in a variety of industries including government/aerospace and defense\, information technology\, the nonprofit sector\, and manufacturing. \n\n\n\nJaime understands the challenges professional working women face in West Central Minnesota and believes in the value of developing interpersonal skills that include negotiating and problem solving.\n\n\n\nJaime is a certified AAUW Work Smart/Start Smart Facilitator\, is an active AAUW member and a local advocate for the AAUW's goal to end the gender pay gap. She has experience developing and conducting trainings and currently teaches classes in Project Management Communication for BWIS.\n\nJaime holds a BA in History from Edinboro University of Pennsylvania and a Graduate Certificate in Applied Intelligence through Mercyhurst University of Pennsylvania. She is currently completing a Master's in History through Slippery Rock University of Pennsylvania.  \n\n\n\nPlease register by October 15th to attend the seminar on Thursday\, October 25\, 2018\, from 11 am   1 pm on the Fergus Falls campus of M State in room S404. To register please go to: ce.fergusotters.org or call the Community Education office at 218-998-0544 ext. 9200.\n\nFergus Falls AAUW would like to thank M State and Fergus Falls School District Community Education for their support in providing this seminar\, West Central Initiative for funding\, and Fergus Falls Business and Professional Woman for assisting in promoting and hosting the seminar.
X-ALT-DESC;FMTTYPE=text/html:The Fergus Falls Branch of American Association of University Women (AAUW) is hosting a WORK SMART seminar. This free seminar is designed to help you negotiate for a new job\, raise or promotion.&nbsp\;<br />\n<br />\nThe seminar will give you confidence in your negotiation style as you learn &bdquo\;h How to identify and articulate your personal value &bdquo\;h How to develop an arsenal of persuasive responses and other negotiation strategies\, including how to get a raise or promotion &bdquo\;h How to conduct objective market research to benchmark a target salary and benefits<br />\n&nbsp\;<br />\nThe session will be led by local AAUW member\, Jaime Price Anderson. Jaime is a PMP certified Project Manager who works with BW Integrated Systems (BWIS)\, formerly Thiele Technologies\, in Fergus Falls. She has worked as a consultant and project manager for 12 years in a variety of industries including government/aerospace and defense\, information technology\, the nonprofit sector\, and manufacturing.&nbsp\;<br />\n<br />\nJaime understands the challenges professional working women face in West Central Minnesota and believes in the value of developing interpersonal skills that include negotiating and problem solving.<br />\n<br />\nJaime is a certified AAUW Work Smart/Start Smart Facilitator\, is an active AAUW member and a local advocate for the AAUW&#39\;s goal to end the gender pay gap. She has experience developing and conducting trainings and currently teaches classes in Project Management Communication for BWIS.<br />\nJaime holds a BA in History from Edinboro University of Pennsylvania and a Graduate Certificate in Applied Intelligence through Mercyhurst University of Pennsylvania. She is currently completing a Master&#39\;s in History through Slippery Rock University of Pennsylvania.&nbsp\;&nbsp\;<br />\n<br />\nPlease register by October 15th to attend the seminar on Thursday\, October 25\, 2018\, from 11 am &ndash\; 1 pm on the Fergus Falls campus of M State in room S404. To register please go to: ce.fergusotters.org or call the Community Education office at 218-998-0544 ext. 9200.<br />\nFergus Falls AAUW would like to thank M State and Fergus Falls School District Community Education for their support in providing this seminar\, West Central Initiative for funding\, and Fergus Falls Business and Professional Woman for assisting in promoting and hosting the seminar.
LOCATION:S404\, Science Building M State Fergus Falls
UID:e.314.50334
SEQUENCE:3
DTSTAMP:20260423T150727Z
URL:https://business.fergusfalls.com/events/details/ypn-knowledge-noon-work-smart-salary-negotaion-workshop-50334
END:VEVENT

END:VCALENDAR
