BEGIN:VCALENDAR
VERSION:2.0
PRODID:-//ChamberMaster//Event Calendar 2.0//EN
METHOD:PUBLISH
X-PUBLISHED-TTL:P3D
REFRESH-INTERVAL:P3D
CALSCALE:GREGORIAN
BEGIN:VEVENT
DTSTART:20171114T230000Z
DTEND:20171115T010000Z
X-MICROSOFT-CDO-ALLDAYEVENT:FALSE
SUMMARY:YPN - November Off the Clock
DESCRIPTION:YPN - Fergus Falls - November Off the Clock\n\n\n\nJoin us for our November Off the Clock hosted by The Spot Panini & Wine! Our *Bring a Friend* promotion is continuing with this event\, so bring a coworker\, friend\, or family member. Huge gift cards are on the line! As always\, food and networking are on the house and drinks will be available for purchase. Remember\, this is an open house-style event. So come whenever you can and stay as long as you like!\n\n\n\n- About Off the Clock -\n\nBuild connections with numerous diverse young professionals from across the region. At monthly networking events hosted at the city's premier venues\, you will have the opportunity to network\, exchange ideas\, and share common interests with your regional peers.\n\n\n\n- About YPN -\n\nToday's young professionals are tomorrow's leaders! As the premier organization of its kind in the region\, the Fergus Falls YPN will help you improve your career\, develop your leadership abilities\, build your professional network\, and give back to the Fergus Falls community.
X-ALT-DESC;FMTTYPE=text/html:YPN - Fergus Falls - November Off the Clock<br />\n<br />\n<span class="_4n-j _3cht fsl" data-testid="event-permalink-details">Join us for our November Off the Clock hosted by <a data-hovercard="/ajax/hovercard/page.php?id=111872812181168&amp\;extragetparams=%7B%22directed_target_id%22%3A128203601266268%7D" data-hovercard-prefer-more-content-show="1" href="https://www.facebook.com/thespotpaniniandwine/"><font color="#0066cc">The Spot Panini &amp\; Wine</font></a>! Our *Bring a Friend* promotion is continuing with this event\, so bring a coworker\, friend\, or family member. Huge gift cards are on the line! As always\, food and networking are on the house and drinks will be available for purchase. Remember\, this is an open house-style event. So come whenever you can and stay as long as you like!<br />\n<br />\n- About Off the Clock -<br />\nBuild connections with numerous diverse young professionals from across the region. At monthly networking events hosted at the city&rsquo\;s premier venues\, you will have the opportunity to network\, exchange ideas\, and share common interests with your regional peers.<br />\n<br />\n- About YPN -<br />\nToday&rsquo\;s young professionals are tomorrow&rsquo\;s leaders! As the premier organization of its kind in the region\, the Fergus Falls YPN will help you improve your career\, develop your leadership abilities\, build your professional network\, and give back to the Fergus Falls community.</span>
LOCATION:The Spot Panini & Wine 220 W Lincoln Ave Fergus Falls
UID:e.314.42892
SEQUENCE:3
DTSTAMP:20260424T091519Z
URL:https://business.fergusfalls.com/events/details/ypn-november-off-the-clock-42892
END:VEVENT

END:VCALENDAR
