BEGIN:VCALENDAR
VERSION:2.0
PRODID:-//ChamberMaster//Event Calendar 2.0//EN
METHOD:PUBLISH
X-PUBLISHED-TTL:P3D
REFRESH-INTERVAL:P3D
CALSCALE:GREGORIAN
BEGIN:VEVENT
DTSTART:20180809T220000Z
DTEND:20180810T000000Z
X-MICROSOFT-CDO-ALLDAYEVENT:FALSE
SUMMARY:YPN - Off the Clock at Mabel Murphy's
DESCRIPTION:Join us on Thursday\, August 9th\, at Mabel Murphy's from 5:00-7:00 for some awesome networking and FREE appetizers. Drinks are also always available for purchase.\n\n\n\nRemember\, this is an open house-style event. So come whenever you can and stay as long as you like!\n\n\n\n5:00p-5:30p: Welcome\, Socializing\, Food\n\n5:30p-6:30p: Focused Networking Activity\n\n6:30p-7:00p: Food and Socializing\n\n\n\n- About Off the Clock -\n\nBuild connections with numerous diverse young professionals from across the region. At monthly networking events hosted at the city's premier venues\, you will have the opportunity to network\, exchange ideas\, and share common interests with your regional peers.
X-ALT-DESC;FMTTYPE=text/html:<span>Join us on </span><span style="color: rgb(0\, 0\, 0)\;"><strong>Thursday\, August 9th\,</strong></span><span> at&nbsp\;</span><span style="color: rgb(0\, 128\, 0)\;"><strong>Mabel Murphy&#39\;s</strong></span><span> from 5:00-7:00 for some awesome networking and FREE appetizers. Drinks are also always available for purchase.<br />\n<br />\nRemember\, this is an open house-style event. So come whenever you can and stay as long as you like!<br />\n<br />\n5:00p-5:30p: Welcome\, Socializing\, Food<br />\n5:30p-6:30p: Focused Networking Activity<br />\n6:30p-7:00p: Food and Socializing<br />\n<br />\n<strong>- About Off the Clock -</strong><br />\nBuild connections with numerous diverse young professionals from across the region. At monthly networking events hosted at the city&rsquo\;s premier venues\, you will have the opportunity to network\, exchange ideas\, and share common interests with your regional peers.</span>
LOCATION:Mabel Murphy's - (Back of pub or on the patio) 3401 State Highway 210 W Fergus Falls\, Minnesota 56537
UID:e.314.50316
SEQUENCE:3
DTSTAMP:20260423T193906Z
URL:https://business.fergusfalls.com/events/details/ypn-off-the-clock-at-mabel-murphy-s-50316
END:VEVENT

END:VCALENDAR
