BEGIN:VCALENDAR
VERSION:2.0
PRODID:-//ChamberMaster//Event Calendar 2.0//EN
METHOD:PUBLISH
X-PUBLISHED-TTL:P3D
REFRESH-INTERVAL:P3D
CALSCALE:GREGORIAN
BEGIN:VEVENT
DTSTART:20180208T230000Z
DTEND:20180209T010000Z
X-MICROSOFT-CDO-ALLDAYEVENT:FALSE
SUMMARY:YPN Off the Clock Kick Off Event
DESCRIPTION:Join us for our 2018 Fergus Falls YPN Kick-Off Event! This completely free to attend event will be a great way for interested young professionals to find out more information about the YPN with no obligations. (You do NOT have to be a paying member to attend!) Are you a current member and want to become more involved in YPN? Stop at one of our committee tables to see which one would be a great fit for you. This open-house-style evening will feature free food\, non-alcoholic drinks (cash bar)\, and prizes! If you have questions or are just wondering what it's all about\, come check us out with no pressure or commitments. Come for a few minutes or stay the whole time\, we'd love to have you!\n\n\n\nIf you have questions about the event\, please feel free to contact the Chamber of Commerce via phone\, message us (the YPN) via our Facebook page\, or call Taylor Larson @ 218-731-2373.
X-ALT-DESC;FMTTYPE=text/html:<span style="color: rgb(75\, 79\, 86)\; font-family: Helvetica\, Arial\, sans-serif\; font-size: 14px\; background-color: rgb(255\, 255\, 255)\;">Join us for our 2018 Fergus Falls YPN Kick-Off Event! This completely free to attend event will be a great way for interested young professionals to find out more information about the YPN with no obligations. (You do NOT have to be a paying member to attend!) Are you a current member and want to become more involved in YPN? Stop at one of our committee tables to see which one would be a great fit for you. This open-house-style evening will feature free food\, non-alcoholic drinks (cash bar)\, and prizes! If you have questions or are just wondering what it&#39\;s all about\, come check us out with no pressure or commitments. Come for a few minutes or stay the whole time\, we&#39\;d love to have you!</span><br style="color: rgb(75\, 79\, 86)\; font-family: Helvetica\, Arial\, sans-serif\; font-size: 14px\; background-color: rgb(255\, 255\, 255)\;" />\n<br style="color: rgb(75\, 79\, 86)\; font-family: Helvetica\, Arial\, sans-serif\; font-size: 14px\; background-color: rgb(255\, 255\, 255)\;" />\n<span style="color: rgb(75\, 79\, 86)\; font-family: Helvetica\, Arial\, sans-serif\; font-size: 14px\; background-color: rgb(255\, 255\, 255)\;">If you have questions about the event\, please feel free to contact the Chamber of Commerce via phone\, message us (the YPN) via our Facebook page\, or call Taylor Larson @ 218-731-2373.</span>
LOCATION:Z103 Bar & Grill 902 Frontier Dr. Fergus Falls MN 56537
UID:e.314.43878
SEQUENCE:3
DTSTAMP:20260424T025208Z
URL:https://business.fergusfalls.com/events/details/ypn-off-the-clock-kick-off-event-43878
END:VEVENT

END:VCALENDAR
