BEGIN:VCALENDAR
VERSION:2.0
PRODID:-//ChamberMaster//Event Calendar 2.0//EN
METHOD:PUBLISH
X-PUBLISHED-TTL:P3D
REFRESH-INTERVAL:P3D
CALSCALE:GREGORIAN
BEGIN:VEVENT
DTSTART:20180614T220000Z
DTEND:20180615T000000Z
X-MICROSOFT-CDO-ALLDAYEVENT:FALSE
SUMMARY:YPN - Off the Clock @ Socials
DESCRIPTION:Join us on Thursday June 14\, 2018 at Socials Bar & Grill from 5:00-7:00 for some awesome networking and FREE appetizers. Drinks are also always available for purchase.\n\n\n\nStick around at 7:00 for some special Millennial Trivia put on by Socials!\n\n\n\nRemember\, this is an open house-style event. So come whenever you can and stay as long as you like!\n\n\n\n5:00p-5:30p: Welcome\, Socializing\, Food\n\n5:30p-6:30p: Focused Networking Activity\n\n6:30p-7:00p: Food and Socializing\n\n\n\n- About Off the Clock -\n\nBuild connections with numerous diverse young professionals from across the region. At monthly networking events hosted at the city's premier venues\, you will have the opportunity to network\, exchange ideas\, and share common interests with your regional peers.
X-ALT-DESC;FMTTYPE=text/html:<span>Join us on Thursday June 14\, 2018 at Socials Bar &amp\; Grill from 5:00-7:00 for some awesome networking and FREE appetizers. Drinks are also always available for purchase.<br />\n<br />\nStick around at 7:00 for some special Millennial Trivia put on by Socials!<br />\n<br />\nRemember\, this is an open house-style event. So come whenever you can and stay as long as you like!<br />\n<br />\n5:00p-5:30p: Welcome\, Socializing\, Food<br />\n5:30p-6:30p: Focused Networking Activity<br />\n6:30p-7:00p: Food and Socializing<br />\n<br />\n- About Off the Clock -<br />\nBuild connections with numerous diverse young professionals from across the region. At monthly networking events hosted at the city&rsquo\;s premier venues\, you will have the opportunity to network\, exchange ideas\, and share common interests with your regional peers.</span>
LOCATION:Social's Bar & Grill
UID:e.314.48919
SEQUENCE:3
DTSTAMP:20260423T212410Z
URL:https://business.fergusfalls.com/events/details/ypn-off-the-clock-socials-48919
END:VEVENT

END:VCALENDAR
