BEGIN:VCALENDAR
VERSION:2.0
PRODID:-//ChamberMaster//Event Calendar 2.0//EN
METHOD:PUBLISH
X-PUBLISHED-TTL:P3D
REFRESH-INTERVAL:P3D
CALSCALE:GREGORIAN
BEGIN:VEVENT
DTSTART:20190314T220000Z
DTEND:20190315T000000Z
X-MICROSOFT-CDO-ALLDAYEVENT:FALSE
SUMMARY:YPN Off the Clock @ Union Pizza & Brewing Co
DESCRIPTION:Join Us on March 14th at the Union Pizza & Brewing Company for the YPN Off the Clock\n\n(Business After Hours for Area Young Professionals)\n\n\n\nBuild Your Network: At these bi-monthly events\, you will have the opportunity to network\, exchange ideas\, and share common interests with your regional peers. \n\n\n\nYPN Off-the-Clock Social Events:\n\n	Bi-monthly (January\, March\, May\, July\, September\, November)\n	Open House Style\, stay as long as your schedule allows\n	Free to attend\, drinks are on your own\n	Different venues: restaurants\, bars\, golf course\, etc.\n	Volleyball teams\, trivia nights\, etc.
X-ALT-DESC;FMTTYPE=text/html:<strong>Join Us on March 14th at the Union Pizza &amp\; Brewing Company for the YPN&nbsp\;Off the Clock<br />\n(Business After Hours for Area Young Professionals)<br />\n<br />\nBuild Your Network:</strong> At these bi-monthly events\, you will have the opportunity to network\, exchange ideas\, and share common interests with your regional peers.&nbsp\;<br />\n<br />\n<strong>YPN Off-the-Clock Social Events:</strong>\n<ul>\n	<li>Bi-monthly (January\, March\, May\, July\, September\, November)</li>\n	<li>Open House Style\,&nbsp\;stay&nbsp\;as long as&nbsp\;your schedule allows</li>\n	<li>Free to attend\, drinks are on your own</li>\n	<li>Different venues: restaurants\, bars\, golf course\, etc.</li>\n	<li>Volleyball teams\, trivia nights\, etc.</li>\n</ul>\n
LOCATION:Union Pizza & Brewing Company Union Ave
UID:e.314.52582
SEQUENCE:3
DTSTAMP:20260423T075750Z
URL:https://business.fergusfalls.com/events/details/ypn-off-the-clock-union-pizza-brewing-co-52582
END:VEVENT

END:VCALENDAR
