BEGIN:VCALENDAR
VERSION:2.0
PRODID:-//ChamberMaster//Event Calendar 2.0//EN
METHOD:PUBLISH
X-PUBLISHED-TTL:P3D
REFRESH-INTERVAL:P3D
CALSCALE:GREGORIAN
BEGIN:VEVENT
DTSTART:20200507T220000Z
DTEND:20200507T230000Z
X-MICROSOFT-CDO-ALLDAYEVENT:FALSE
SUMMARY:YPN Virtual Thirsty Thursday
DESCRIPTION:We're going to keep connecting throughout this COVID-19 situation. We'll meet on Zoom every Thursday at 5pm until the stay at home orders are lifted. See you there!\n\nSpecial Guest \n\nJoin Zoom Meeting - Thursdays at 5pm\n\nRegister Here and the Zoom Login & Password will be emailed to you.
X-ALT-DESC;FMTTYPE=text/html:<span style="color: rgb(29\, 33\, 41)\; font-family: Helvetica\, Arial\, sans-serif\; font-size: 14px\; white-space: pre-wrap\;">We&#39\;re going to keep connecting throughout this COVID-19 situation. We&#39\;ll meet on Zoom every Thursday at 5pm until the stay at home orders are lifted. See you there!<br />\n<strong>Special Guest </strong></span><br style="color: rgb(29\, 33\, 41)\; font-family: Helvetica\, Arial\, sans-serif\; font-size: 14px\; white-space: pre-wrap\;" />\n<span style="color: rgb(29\, 33\, 41)\; font-family: Helvetica\, Arial\, sans-serif\; font-size: 14px\; white-space: pre-wrap\;">Join Zoom Meeting - Thursdays at 5pm</span><br style="color: rgb(29\, 33\, 41)\; font-family: Helvetica\, Arial\, sans-serif\; font-size: 14px\; white-space: pre-wrap\;" />\n<font color="#1d2129" face="Helvetica\, Arial\, sans-serif"><span style="font-size: 14px\; white-space: pre-wrap\;"><b>Register Here and the Zoom Login &amp\; Password will be emailed to you.</b></span></font>
LOCATION:ZOOM -- feel free to set up your own free account at Zoom.us
UID:e.314.57394
SEQUENCE:3
DTSTAMP:20260422T112421Z
URL:https://business.fergusfalls.com/events/details/ypn-virtual-thirsty-thursday-05-07-2020-57394
END:VEVENT

END:VCALENDAR
