BEGIN:VCALENDAR
VERSION:2.0
PRODID:-//ChamberMaster//Event Calendar 2.0//EN
METHOD:PUBLISH
X-PUBLISHED-TTL:P3D
REFRESH-INTERVAL:P3D
CALSCALE:GREGORIAN
BEGIN:VEVENT
DTSTART:20180329T210000Z
DTEND:20180329T230000Z
X-MICROSOFT-CDO-ALLDAYEVENT:FALSE
SUMMARY:YPN Volunteer Event
DESCRIPTION:YPN Volunteer Opportunity!
X-ALT-DESC;FMTTYPE=text/html:<font color="#000000" face="verdana"><span style="font-size: 14px\; font-variant-caps: small-caps\;"><b>YPN Volunteer Opportunity!</b></span></font><br />\n<span style="font-variant:small-caps\;font-weight:bold\;language:en-US\;"><span style="color:black\;">&nbsp\; &nbsp\; &nbsp\; &nbsp\; &nbsp\; &nbsp\; &nbsp\; &nbsp\;&nbsp\;</span></span><br />\n&nbsp\;
LOCATION:Fergus Falls Food Shelf 1512 First ave. Fergus Falls
UID:e.314.46368
SEQUENCE:3
DTSTAMP:20260424T012955Z
URL:https://business.fergusfalls.com/events/details/ypn-volunteer-event-46368
END:VEVENT

END:VCALENDAR
