BEGIN:VCALENDAR
VERSION:2.0
PRODID:-//ChamberMaster//Event Calendar 2.0//EN
METHOD:PUBLISH
X-PUBLISHED-TTL:P3D
REFRESH-INTERVAL:P3D
CALSCALE:GREGORIAN
BEGIN:VEVENT
DTSTART:20191221T030000Z
DTEND:20191221T055500Z
X-MICROSOFT-CDO-ALLDAYEVENT:FALSE
SUMMARY:Z103 Bar & Grill's Ugly Sweater Contest
DESCRIPTION:Join us for a festive night of fun with Anna's Karaoke! | Shot specials will be available!\n\n20 December | Sat | 9 PM\n\n3 WINNERS WILL BE DRAWN FOR UGLIEST SWEATER!
X-ALT-DESC;FMTTYPE=text/html:<div class="_63ew" data-testid="event-permalink-details"><span>Join us for a festive night of fun with Anna&#39\;s Karaoke! | Shot specials will be available!<br />\n20 December | Sat | 9 PM<br />\n3 WINNERS WILL BE DRAWN FOR UGLIEST SWEATER!</span></div>\n
LOCATION:Z103
UID:e.314.56013
SEQUENCE:3
DTSTAMP:20260422T172336Z
URL:https://business.fergusfalls.com/events/details/z103-bar-grill-s-ugly-sweater-contest-56013
END:VEVENT

END:VCALENDAR
