BEGIN:VCALENDAR
VERSION:2.0
PRODID:-//ChamberMaster//Event Calendar 2.0//EN
METHOD:PUBLISH
X-PUBLISHED-TTL:P3D
REFRESH-INTERVAL:P3D
CALSCALE:GREGORIAN
BEGIN:VEVENT
DTSTART:20161204T160000Z
DTEND:20161204T200000Z
X-MICROSOFT-CDO-ALLDAYEVENT:FALSE
SUMMARY:Z103 Bar Youth Hockey Dining out. Sunday Brunch
DESCRIPTION:Z103 Bar and Grill is working with Fergus Falls Youth Hockey for our fundraising. For Every Sunday Brunch sold\, Z103 Bar will give FFYHA $2. Come eat a good brunch with omelettes\, bacon\, pankcakes\, sausage\, and more.
X-ALT-DESC;FMTTYPE=text/html:Z103 Bar and Grill is working with Fergus Falls Youth Hockey for our fundraising. For Every Sunday Brunch sold\, Z103 Bar will give FFYHA $2. Come eat a good brunch with omelettes\, bacon\, pankcakes\, sausage\, and more.
LOCATION:
UID:e.314.37207
SEQUENCE:3
DTSTAMP:20260425T022751Z
URL:https://business.fergusfalls.com/events/details/z103-bar-youth-hockey-dining-out-sunday-brunch-37207
END:VEVENT

END:VCALENDAR
