BEGIN:VCALENDAR
VERSION:2.0
PRODID:-//ChamberMaster//Event Calendar 2.0//EN
METHOD:PUBLISH
X-PUBLISHED-TTL:P3D
REFRESH-INTERVAL:P3D
CALSCALE:GREGORIAN
BEGIN:VEVENT
DTSTART:20210703T000000Z
DTEND:20210703T030000Z
X-MICROSOFT-CDO-ALLDAYEVENT:FALSE
SUMMARY:Zach Thomas - Live Music @ Outstate Brewing
DESCRIPTION:Start your 4th of July weekend off right with some great beer & Zach Thomas!\n\n\n\nOutstate Brewing Co. is production brewery/tap house celebrating MN lakes country through craft\, creativity\, and community! Join us in the Great Room or on the patio! Nestled along the edge of the beautiful Otter Tail River in Fergus Falls. "Experience Greater" at Outstate!\n\n \nDon't feel like cooking?! Ole & Lena's pizza is your answer! We have many delicious options available\, including:\n\nThree Cheese\, Pepperoni\, Pepperoni & Sausage\, Liquor Pig\, Street Taco\, Mediterranean\, Korean BBQ\, Chicken Alfredo & Chicken Bacon Ranch. Stop in for a beer & a slice!
X-ALT-DESC;FMTTYPE=text/html:<span style="font-size:12px\;"><span style="font-family:verdana\;"><span font-size:="" segoe="" style="color: rgb(5\, 5\, 5)\; font-family: " ui="">Start your 4th of July weekend off right with some great beer &amp\; Zach Thomas!</span><br />\n<br />\n<span font-size:="" segoe="" style="color: rgb(5\, 5\, 5)\; font-family: " ui="">Outstate Brewing Co. is production brewery/tap house celebrating MN lakes country through craft\, creativity\, and community! Join us in the Great Room or on the patio! Nestled along the edge of the beautiful Otter Tail River in Fergus Falls. &quot\;Experience Greater&quot\; at Outstate!</span></span></span><br />\n&nbsp\;\n<div dir="auto" style="font-family: &quot\;Segoe UI Historic&quot\;\, &quot\;Segoe UI&quot\;\, Helvetica\, Arial\, sans-serif\; color: rgb(5\, 5\, 5)\; font-size: 15px\; white-space: pre-wrap\;"><span style="font-size:12px\;"><span style="font-family:verdana\;">Don&rsquo\;t feel like cooking?! Ole &amp\; Lena&rsquo\;s pizza is your answer! We have many delicious options available\, including:</span></span></div>\n\n<div dir="auto" style="font-family: &quot\;Segoe UI Historic&quot\;\, &quot\;Segoe UI&quot\;\, Helvetica\, Arial\, sans-serif\; color: rgb(5\, 5\, 5)\; font-size: 15px\; white-space: pre-wrap\;"><span style="font-size:12px\;"><span style="font-family:verdana\;">Three Cheese\, Pepperoni\, Pepperoni &amp\; Sausage\, Liquor Pig\, Street Taco\, Mediterranean\, Korean BBQ\, Chicken Alfredo &amp\; Chicken Bacon Ranch. Stop in for a beer &amp\; a slice!</span></span></div>\n
LOCATION:Outstate Brewing Co. 309 S. Vine St. Fergus Falls\, MN
UID:e.314.62441
SEQUENCE:3
DTSTAMP:20260421T122618Z
URL:https://business.fergusfalls.com/events/details/zach-thomas-live-music-outstate-brewing-62441
END:VEVENT

END:VCALENDAR
