BEGIN:VCALENDAR
VERSION:2.0
PRODID:-//ChamberMaster//Event Calendar 2.0//EN
METHOD:PUBLISH
X-PUBLISHED-TTL:P3D
REFRESH-INTERVAL:P3D
CALSCALE:GREGORIAN
BEGIN:VEVENT
DTSTART:20180929T150000Z
DTEND:20180929T180000Z
X-MICROSOFT-CDO-ALLDAYEVENT:FALSE
SUMMARY:Zion Lutheran Church Harvest Festival
DESCRIPTION:We would like to invite you to attend our annual \n\nBake Sale\n\nProduce Sale\n\nQuilt Sale\n\nLefse Sale (samples available)\n\n\n\nLUNCH\n\nBaked Potato Bar & Pie
X-ALT-DESC;FMTTYPE=text/html:We would like to invite you to attend our annual&nbsp\;<br />\nBake Sale<br />\nProduce Sale<br />\nQuilt Sale<br />\nLefse Sale (samples available)<br />\n<br />\nLUNCH<br />\nBaked Potato Bar &amp\; Pie
LOCATION:Zion Lutheran Church 202 E Summit Ave. Fergus Falls MN 56537
UID:e.314.50354
SEQUENCE:3
DTSTAMP:20260423T170012Z
URL:https://business.fergusfalls.com/events/details/zion-lutheran-church-harvest-festival-50354
END:VEVENT

END:VCALENDAR
