BEGIN:VCALENDAR
VERSION:2.0
PRODID:-//ChamberMaster//Event Calendar 2.0//EN
METHOD:PUBLISH
X-PUBLISHED-TTL:P3D
REFRESH-INTERVAL:P3D
CALSCALE:GREGORIAN
BEGIN:VEVENT
DTSTART:20210813T133000Z
DTEND:20210813T200000Z
X-MICROSOFT-CDO-ALLDAYEVENT:FALSE
SUMMARY:Zion Lutheran Church Rummage Sale
DESCRIPTION:Zion Lutheran Church Rummage Sale and Bake Sale
X-ALT-DESC;FMTTYPE=text/html:Zion Lutheran Church Rummage Sale and Bake Sale
LOCATION:202 E Summit Avenue Fergus Falls (located on the corner of Summit and Cascade)
UID:e.314.62450
SEQUENCE:3
DTSTAMP:20260421T111218Z
URL:https://business.fergusfalls.com/events/details/zion-lutheran-church-rummage-sale-62450
END:VEVENT

END:VCALENDAR
