BEGIN:VCALENDAR
VERSION:2.0
PRODID:-//ChamberMaster//Event Calendar 2.0//EN
METHOD:PUBLISH
X-PUBLISHED-TTL:P3D
REFRESH-INTERVAL:P3D
CALSCALE:GREGORIAN
BEGIN:VEVENT
DTSTART:20151017T133000Z
DTEND:20151017T142500Z
X-MICROSOFT-CDO-ALLDAYEVENT:FALSE
SUMMARY:Zumba @ Anytime Fitness
DESCRIPTION:8:30am Zumba @ Anytime Fitness
X-ALT-DESC;FMTTYPE=text/html:<strong>8:30am Zumba @ Anytime Fitness </strong>
LOCATION:Anytime Fitness 120 1/2 West Cavour City Center Mall Fergus Falls
UID:e.314.24642
SEQUENCE:3
DTSTAMP:20260426T030500Z
URL:https://business.fergusfalls.com/events/details/zumba-anytime-fitness-10-17-2015-24642
END:VEVENT

END:VCALENDAR
