BEGIN:VCALENDAR
VERSION:2.0
PRODID:-//ChamberMaster//Event Calendar 2.0//EN
METHOD:PUBLISH
X-PUBLISHED-TTL:P3D
REFRESH-INTERVAL:P3D
CALSCALE:GREGORIAN
BEGIN:VEVENT
DTSTART:20160422T224500Z
DTEND:20160423T003000Z
X-MICROSOFT-CDO-ALLDAYEVENT:FALSE
SUMMARY:Zumba Night Out in Underwood
DESCRIPTION:Free event at the Underwood School gym this coming Friday night. Grab a friend and get ready kick up your heals to some country music at our Country Themed Event. All you need is comfortable workout clothes and bottle of water. There will be giveaways at this event.
X-ALT-DESC;FMTTYPE=text/html:Free event at the Underwood School gym this coming Friday night. Grab a friend and get ready kick up your heals to some country music at our Country Themed Event. All you need is comfortable workout clothes and bottle of water. There will be giveaways at this event.
LOCATION:Underwood High School
UID:e.314.32637
SEQUENCE:3
DTSTAMP:20260425T163341Z
URL:https://business.fergusfalls.com/events/details/zumba-night-out-in-underwood-04-22-2016-32637
END:VEVENT

END:VCALENDAR
